BEGIN:VCALENDAR
VERSION:2.0
PRODID:-//Greeting Card Association - ECPv6.15.20//NONSGML v1.0//EN
CALSCALE:GREGORIAN
METHOD:PUBLISH
X-ORIGINAL-URL:https://www.gca.cards
X-WR-CALDESC:Events for Greeting Card Association
REFRESH-INTERVAL;VALUE=DURATION:PT1H
X-Robots-Tag:noindex
X-PUBLISHED-TTL:PT1H
BEGIN:VTIMEZONE
TZID:Europe/London
BEGIN:DAYLIGHT
TZOFFSETFROM:+0000
TZOFFSETTO:+0100
TZNAME:BST
DTSTART:20250330T010000
END:DAYLIGHT
BEGIN:STANDARD
TZOFFSETFROM:+0100
TZOFFSETTO:+0000
TZNAME:GMT
DTSTART:20251026T010000
END:STANDARD
BEGIN:DAYLIGHT
TZOFFSETFROM:+0000
TZOFFSETTO:+0100
TZNAME:BST
DTSTART:20260329T010000
END:DAYLIGHT
BEGIN:STANDARD
TZOFFSETFROM:+0100
TZOFFSETTO:+0000
TZNAME:GMT
DTSTART:20261025T010000
END:STANDARD
BEGIN:DAYLIGHT
TZOFFSETFROM:+0000
TZOFFSETTO:+0100
TZNAME:BST
DTSTART:20270328T010000
END:DAYLIGHT
BEGIN:STANDARD
TZOFFSETFROM:+0100
TZOFFSETTO:+0000
TZNAME:GMT
DTSTART:20271031T010000
END:STANDARD
END:VTIMEZONE
BEGIN:VEVENT
DTSTART;TZID=Europe/London:20260520T174500
DTEND;TZID=Europe/London:20260520T200000
DTSTAMP:20260421T210745
CREATED:20260319T140109Z
LAST-MODIFIED:20260415T162346Z
UID:10000207-1779299100-1779307200@www.gca.cards
SUMMARY:GCA Local London
DESCRIPTION:This GCA Local event in London will be hosted by some of our GCA Council members\, Rosie Tate\, Daniel Prince\, David Falkner at the Betjeman Arms in London St Pancras Station. \nOur GCA Local Events are all about bringing members together for relaxed\, informal meet‑ups with fellow cardies in your area. Whether it’s over a coffee or a post‑work drink\, these gatherings are a great chance to chat about all things cards\, share experiences\, and connect with others who love the industry as much as you do. \n\nPlease note: these are networking events\, not sales opportunities. The focus is on sharing ideas\, connecting with others in the industry\, and helping the GCA understand where members need support most. \nThere’s a small booking fee of £5 for GCA Members and £10 for non‑members\, which helps cover admin costs and supports the valuable work the GCA does.
URL:https://www.gca.cards/event/gca-local-london/
LOCATION:Betjeman Arms\, 53\, St Pancras International Station\, London\, N1C 4QL\, United Kingdom
CATEGORIES:GCA Events,GCA Local
ATTACH;FMTTYPE=image/png:https://www.gca.cards/wp-content/uploads/2025/02/GCA-Local.png
GEO:51.5311162;-0.1258659
X-APPLE-STRUCTURED-LOCATION;VALUE=URI;X-ADDRESS=Betjeman Arms 53 St Pancras International Station London N1C 4QL United Kingdom;X-APPLE-RADIUS=500;X-TITLE=53\, St Pancras International Station:geo:-0.1258659,51.5311162
END:VEVENT
END:VCALENDAR