BEGIN:VCALENDAR
VERSION:2.0
PRODID:-//Greeting Card Association - ECPv6.15.20//NONSGML v1.0//EN
CALSCALE:GREGORIAN
METHOD:PUBLISH
X-WR-CALNAME:Greeting Card Association
X-ORIGINAL-URL:https://www.gca.cards
X-WR-CALDESC:Events for Greeting Card Association
REFRESH-INTERVAL;VALUE=DURATION:PT1H
X-Robots-Tag:noindex
X-PUBLISHED-TTL:PT1H
BEGIN:VTIMEZONE
TZID:Europe/London
BEGIN:DAYLIGHT
TZOFFSETFROM:+0000
TZOFFSETTO:+0100
TZNAME:BST
DTSTART:20250330T010000
END:DAYLIGHT
BEGIN:STANDARD
TZOFFSETFROM:+0100
TZOFFSETTO:+0000
TZNAME:GMT
DTSTART:20251026T010000
END:STANDARD
BEGIN:DAYLIGHT
TZOFFSETFROM:+0000
TZOFFSETTO:+0100
TZNAME:BST
DTSTART:20260329T010000
END:DAYLIGHT
BEGIN:STANDARD
TZOFFSETFROM:+0100
TZOFFSETTO:+0000
TZNAME:GMT
DTSTART:20261025T010000
END:STANDARD
BEGIN:DAYLIGHT
TZOFFSETFROM:+0000
TZOFFSETTO:+0100
TZNAME:BST
DTSTART:20270328T010000
END:DAYLIGHT
BEGIN:STANDARD
TZOFFSETFROM:+0100
TZOFFSETTO:+0000
TZNAME:GMT
DTSTART:20271031T010000
END:STANDARD
END:VTIMEZONE
BEGIN:VEVENT
DTSTART;TZID=Europe/London:20260319T110000
DTEND;TZID=Europe/London:20260319T120000
DTSTAMP:20260420T162934
CREATED:20260205T111259Z
LAST-MODIFIED:20260305T105657Z
UID:10000119-1773918000-1773921600@www.gca.cards
SUMMARY:From Taking On Your First Employee to Expanding to the Dream Team
DESCRIPTION:Taking on your first employee is an exciting milestone for any growing business — but it also comes with important responsibilities and decisions. In this practical and easy‑to‑follow session\, Liz Chiva Director of Hallidays HR will guide you through everything you need to know to hire confidently and build the foundations of a strong\, motivated team. \n\nIn this webinar\, Liz will cover: \n\nYour Legal Obligations\nRecruitment Essentials\nRetainment & Performance Management\nGrowing Your Team\nFit\, Motivation\, Morale & Leadership\n\nWhether you’re about to hire your very first employee or preparing to expand your team further\, this session will give you the clarity and confidence you need.
URL:https://www.gca.cards/event/from-taking-on-your-first-employee-to-expanding-to-the-dream-team/
CATEGORIES:Webinars
ATTACH;FMTTYPE=image/svg+xml:https://www.gca.cards/wp-content/uploads/2024/08/GCA-Webinars-Logo.svg
LOCATION:https://www.gca.cards/event/from-taking-on-your-first-employee-to-expanding-to-the-dream-team/
END:VEVENT
BEGIN:VEVENT
DTSTART;TZID=Europe/London:20260219T110000
DTEND;TZID=Europe/London:20260219T120000
DTSTAMP:20260420T162934
CREATED:20260109T220813Z
LAST-MODIFIED:20260217T105257Z
UID:10000114-1771498800-1771502400@www.gca.cards
SUMMARY:Understanding B Corp: What\, Why and What’s Involved
DESCRIPTION:What does it really mean to become a B Corp — and is it something your business should be thinking about now? \n\nJoin Future Shift for a practical\, introductory webinar designed to help GCA members clearly understand what B Corp certification is\, what’s involved\, and the potential benefits for businesses within the greeting card industry. \nThe session will include a short\, accessible presentation covering the fundamentals of B Corp certification — from what it is and why companies choose to pursue it\, to how the process works and where to start. The discussion will also explore how B Corp links to wider sustainability expectations and upcoming regulations that many businesses in our industry are likely to face. \nThe webinar will conclude with a panel Q&A featuring Caroline Gardner\, Woodmansterne and Windles who are already B Corp certified or currently on the journey\, offering real‑world insight and honest reflections on the process. This will be chaired by Fiona Pitt\, head of commercial at Hallmark\, who lead’s the GCA’s sustainability sub-committee. \nWhat you’ll gain from attending: \n\nA clear\, jargon‑free overview of what B Corp certification actually is\nAn understanding of the benefits\, challenges and commitments involved\nInsight into how B Corp aligns with broader sustainability regulations\nPractical next steps and signposts for support if you want to explore further
URL:https://www.gca.cards/event/understanding-b-corp-what-why-and-whats-involved/
CATEGORIES:Webinars
ATTACH;FMTTYPE=image/png:https://www.gca.cards/wp-content/uploads/2024/08/GCA-WEBINAR-LOGO.png
LOCATION:https://www.gca.cards/event/understanding-b-corp-what-why-and-whats-involved/
END:VEVENT
END:VCALENDAR