BEGIN:VCALENDAR
VERSION:2.0
PRODID:-//Greeting Card Association - ECPv6.15.20//NONSGML v1.0//EN
CALSCALE:GREGORIAN
METHOD:PUBLISH
X-WR-CALNAME:Greeting Card Association
X-ORIGINAL-URL:https://www.gca.cards
X-WR-CALDESC:Events for Greeting Card Association
REFRESH-INTERVAL;VALUE=DURATION:PT1H
X-Robots-Tag:noindex
X-PUBLISHED-TTL:PT1H
BEGIN:VTIMEZONE
TZID:Europe/London
BEGIN:DAYLIGHT
TZOFFSETFROM:+0000
TZOFFSETTO:+0100
TZNAME:BST
DTSTART:20250330T010000
END:DAYLIGHT
BEGIN:STANDARD
TZOFFSETFROM:+0100
TZOFFSETTO:+0000
TZNAME:GMT
DTSTART:20251026T010000
END:STANDARD
BEGIN:DAYLIGHT
TZOFFSETFROM:+0000
TZOFFSETTO:+0100
TZNAME:BST
DTSTART:20260329T010000
END:DAYLIGHT
BEGIN:STANDARD
TZOFFSETFROM:+0100
TZOFFSETTO:+0000
TZNAME:GMT
DTSTART:20261025T010000
END:STANDARD
BEGIN:DAYLIGHT
TZOFFSETFROM:+0000
TZOFFSETTO:+0100
TZNAME:BST
DTSTART:20270328T010000
END:DAYLIGHT
BEGIN:STANDARD
TZOFFSETFROM:+0100
TZOFFSETTO:+0000
TZNAME:GMT
DTSTART:20271031T010000
END:STANDARD
BEGIN:DAYLIGHT
TZOFFSETFROM:+0000
TZOFFSETTO:+0100
TZNAME:BST
DTSTART:20280326T010000
END:DAYLIGHT
BEGIN:STANDARD
TZOFFSETFROM:+0100
TZOFFSETTO:+0000
TZNAME:GMT
DTSTART:20281029T010000
END:STANDARD
BEGIN:DAYLIGHT
TZOFFSETFROM:+0000
TZOFFSETTO:+0100
TZNAME:BST
DTSTART:20290325T010000
END:DAYLIGHT
BEGIN:STANDARD
TZOFFSETFROM:+0100
TZOFFSETTO:+0000
TZNAME:GMT
DTSTART:20291028T010000
END:STANDARD
BEGIN:DAYLIGHT
TZOFFSETFROM:+0000
TZOFFSETTO:+0100
TZNAME:BST
DTSTART:20300331T010000
END:DAYLIGHT
BEGIN:STANDARD
TZOFFSETFROM:+0100
TZOFFSETTO:+0000
TZNAME:GMT
DTSTART:20301027T010000
END:STANDARD
BEGIN:DAYLIGHT
TZOFFSETFROM:+0000
TZOFFSETTO:+0100
TZNAME:BST
DTSTART:20310330T010000
END:DAYLIGHT
BEGIN:STANDARD
TZOFFSETFROM:+0100
TZOFFSETTO:+0000
TZNAME:GMT
DTSTART:20311026T010000
END:STANDARD
END:VTIMEZONE
BEGIN:VEVENT
DTSTART;VALUE=DATE:20261130
DTEND;VALUE=DATE:20261201
DTSTAMP:20260425T130150
CREATED:20260224T150118Z
LAST-MODIFIED:20260224T150118Z
UID:10000140-1795996800-1796083199@www.gca.cards
SUMMARY:St Andrew's Day
DESCRIPTION:Sending a card for St Andrew’s Day on the 30th of November is a beautiful way to usher in the winter season with a sense of kinship and “auld acquaintance.” As Scotland’s patron saint is celebrated\, a physical card serves as a stirring tribute to heritage\, whether it features the bold Saltire\, a sprig of purple thistle\, or a cosy tartan design. It is a moment to reach out across the miles\, offering a warm gesture of friendship and a nod to the spirit of hospitality that defines the Scottish character. \nIn the rush toward the end of the year\, a St Andrew’s Day card provides a meaningful pause to celebrate community and culture. It’s a chance to champion the incredible artistry of the card industry while sending a tangible “hug” to loved ones. From poetic verses to modern\, minimalist designs\, each card is a reminder of the bonds that tie us together.
URL:https://www.gca.cards/event/st-andrews-day/2026-11-30/
CATEGORIES:Card Sending Occasions
ATTACH;FMTTYPE=image/svg+xml:https://www.gca.cards/wp-content/uploads/2026/02/St-Andrews-Day.svg
END:VEVENT
BEGIN:VEVENT
DTSTART;VALUE=DATE:20271130
DTEND;VALUE=DATE:20271201
DTSTAMP:20260425T130150
CREATED:20260224T150118Z
LAST-MODIFIED:20260224T150118Z
UID:10000141-1827532800-1827619199@www.gca.cards
SUMMARY:St Andrew's Day
DESCRIPTION:Sending a card for St Andrew’s Day on the 30th of November is a beautiful way to usher in the winter season with a sense of kinship and “auld acquaintance.” As Scotland’s patron saint is celebrated\, a physical card serves as a stirring tribute to heritage\, whether it features the bold Saltire\, a sprig of purple thistle\, or a cosy tartan design. It is a moment to reach out across the miles\, offering a warm gesture of friendship and a nod to the spirit of hospitality that defines the Scottish character. \nIn the rush toward the end of the year\, a St Andrew’s Day card provides a meaningful pause to celebrate community and culture. It’s a chance to champion the incredible artistry of the card industry while sending a tangible “hug” to loved ones. From poetic verses to modern\, minimalist designs\, each card is a reminder of the bonds that tie us together.
URL:https://www.gca.cards/event/st-andrews-day/2027-11-30/
CATEGORIES:Card Sending Occasions
ATTACH;FMTTYPE=image/svg+xml:https://www.gca.cards/wp-content/uploads/2026/02/St-Andrews-Day.svg
END:VEVENT
BEGIN:VEVENT
DTSTART;VALUE=DATE:20281130
DTEND;VALUE=DATE:20281201
DTSTAMP:20260425T130150
CREATED:20260224T150118Z
LAST-MODIFIED:20260224T150118Z
UID:10000142-1859155200-1859241599@www.gca.cards
SUMMARY:St Andrew's Day
DESCRIPTION:Sending a card for St Andrew’s Day on the 30th of November is a beautiful way to usher in the winter season with a sense of kinship and “auld acquaintance.” As Scotland’s patron saint is celebrated\, a physical card serves as a stirring tribute to heritage\, whether it features the bold Saltire\, a sprig of purple thistle\, or a cosy tartan design. It is a moment to reach out across the miles\, offering a warm gesture of friendship and a nod to the spirit of hospitality that defines the Scottish character. \nIn the rush toward the end of the year\, a St Andrew’s Day card provides a meaningful pause to celebrate community and culture. It’s a chance to champion the incredible artistry of the card industry while sending a tangible “hug” to loved ones. From poetic verses to modern\, minimalist designs\, each card is a reminder of the bonds that tie us together.
URL:https://www.gca.cards/event/st-andrews-day/2028-11-30/
CATEGORIES:Card Sending Occasions
ATTACH;FMTTYPE=image/svg+xml:https://www.gca.cards/wp-content/uploads/2026/02/St-Andrews-Day.svg
END:VEVENT
BEGIN:VEVENT
DTSTART;VALUE=DATE:20291130
DTEND;VALUE=DATE:20291201
DTSTAMP:20260425T130150
CREATED:20260224T150118Z
LAST-MODIFIED:20260224T150118Z
UID:10000143-1890691200-1890777599@www.gca.cards
SUMMARY:St Andrew's Day
DESCRIPTION:Sending a card for St Andrew’s Day on the 30th of November is a beautiful way to usher in the winter season with a sense of kinship and “auld acquaintance.” As Scotland’s patron saint is celebrated\, a physical card serves as a stirring tribute to heritage\, whether it features the bold Saltire\, a sprig of purple thistle\, or a cosy tartan design. It is a moment to reach out across the miles\, offering a warm gesture of friendship and a nod to the spirit of hospitality that defines the Scottish character. \nIn the rush toward the end of the year\, a St Andrew’s Day card provides a meaningful pause to celebrate community and culture. It’s a chance to champion the incredible artistry of the card industry while sending a tangible “hug” to loved ones. From poetic verses to modern\, minimalist designs\, each card is a reminder of the bonds that tie us together.
URL:https://www.gca.cards/event/st-andrews-day/2029-11-30/
CATEGORIES:Card Sending Occasions
ATTACH;FMTTYPE=image/svg+xml:https://www.gca.cards/wp-content/uploads/2026/02/St-Andrews-Day.svg
END:VEVENT
BEGIN:VEVENT
DTSTART;VALUE=DATE:20301130
DTEND;VALUE=DATE:20301201
DTSTAMP:20260425T130150
CREATED:20260224T150118Z
LAST-MODIFIED:20260224T150118Z
UID:10000144-1922227200-1922313599@www.gca.cards
SUMMARY:St Andrew's Day
DESCRIPTION:Sending a card for St Andrew’s Day on the 30th of November is a beautiful way to usher in the winter season with a sense of kinship and “auld acquaintance.” As Scotland’s patron saint is celebrated\, a physical card serves as a stirring tribute to heritage\, whether it features the bold Saltire\, a sprig of purple thistle\, or a cosy tartan design. It is a moment to reach out across the miles\, offering a warm gesture of friendship and a nod to the spirit of hospitality that defines the Scottish character. \nIn the rush toward the end of the year\, a St Andrew’s Day card provides a meaningful pause to celebrate community and culture. It’s a chance to champion the incredible artistry of the card industry while sending a tangible “hug” to loved ones. From poetic verses to modern\, minimalist designs\, each card is a reminder of the bonds that tie us together.
URL:https://www.gca.cards/event/st-andrews-day/2030-11-30/
CATEGORIES:Card Sending Occasions
ATTACH;FMTTYPE=image/svg+xml:https://www.gca.cards/wp-content/uploads/2026/02/St-Andrews-Day.svg
END:VEVENT
END:VCALENDAR